BEGIN:VCALENDAR
VERSION:2.0
PRODID:-//hacksw/handcal//NONSGML v1.0//EN
BEGIN:VEVENT
SUMMARY:INTERCLUBS U13
UID:95fe6cda-e2d8-4856-af99-47ca5a3d993c
DTSTART:20260621T060000Z
DTEND:20260621T150000Z
LOCATION:Localisation   
CATEGORIES:Sportif
STATUS:
URL;VALUE=URI:https://www.lorientnatation.com/evenements/2026/06/21/interclubs-u13-2337345
END:VEVENT
END:VCALENDAR
