BEGIN:VCALENDAR
VERSION:2.0
PRODID:-//hacksw/handcal//NONSGML v1.0//EN
BEGIN:VEVENT
SUMMARY:Meeting des Corsaires
UID:b1a07a3e-1835-4e24-9b5a-3c8b5b068d45
DTSTART:20260508T060000Z
DTEND:20260508T150000Z
LOCATION:Localisation 14 Rue du Calvaire, 56230 Questembert 56230 Questembert
CATEGORIES:Sportif
STATUS:
DESCRIPTION:<p style="text-align:center;"><span
 style="font-size:18px;"><span><span style="font-family:Aptos,
 sans-serif;">Meeting des corsaires Piscine de Questembert beau soleil
 le 8 Mai </span></span></span></p>
 
 <p
 style="text-align:center;"><span style="color:#8e44ad;"><strong><span
 style="font-size:11pt;"><span style="font-family:Aptos,
 sans-serif;">Belle competition qui nous permet de regrouper
 l'ensemble des groupes jeunes 1 et jeune 2, puisque les 2 categories
 qui nagent habituellement separees peuvent
 participer.</span></span></strong></span></p>
 
 <p><span
 style="font-size:11pt;"><span><span style="font-family:Aptos,
 sans-serif;">(<strong>Competition toute la
 journee</strong>) </span></span></span><span
 style="font-size:11pt;"><span><span style="font-family:Aptos,
 sans-serif;">Les horaires exacts ne seront connus que les jours qui
 precedent la competition. Vous les trouverez sur le site sur le site
 liveFFN.  Apparaissent sur le site toutes les competitions qui ont
 lieu dans le week-end en France, selectionnez la bonne competition
 puis dans l'onglet programme vous trouverez les
 horaires.</span></span></span></p>
 
 <p><span
 style="font-size:11pt;"><span><span style="font-family:Aptos,
 sans-serif;">Les nageurs doivent etre presents legerement avant
 l'ouverture des portes. </span></span></span></p>
 
 <p><span
 style="font-size:11pt;"><span><span style="font-family:Aptos,
 sans-serif;">Pour les nageurs le<u> telephone</u> ne sera pas
 autorise sur le bord du bassin, ils peuvent l'avoir avec eux  mais
 seulement dans leur sac.</span></span></span></p>
 
 <p><span
 style="font-size:11pt;"><span><span style="font-family:Aptos,
 sans-serif;">Penser a donner au nageur un papier avec les nages sur
 lequel ils sont inscrites. En cas de relais pensez a ecrire l'ordre
 du relais). Vous les trouverez sur le live FFN, dans les jours qui
 precedent la competition.</span></span></span></p>
 
 <p
 style="text-align:center;"> </p>
 
 <ul>
 	<li><span
 style="font-size:11pt;"><span><span style="font-family:Aptos,
 sans-serif;">Prevoir avec les couleurs du club tee shirt et
 bonnet</span></span></span></li>
 	<li><span
 style="font-size:11pt;"><span><span style="font-family:Aptos,
 sans-serif;">Prevoir un pique-nique et eau, les nageurs resteront
 tous ensemble pour manger </span></span></span></li>
 </ul>
 
 <p
 style="text-align:center;"><strong><span
 style="font-size:11pt;"><span><span style="font-family:Aptos,
 sans-serif;">Inscription jusqu'au 26
 Avril </span></span></span></strong></p>
 
 <p><span
 style="font-size:11pt;"><span><span style="font-family:Aptos,
 sans-serif;">Pour le bon deroulement de la competition, nous avons
 besoin d'officiels, <a
 href="https://beta.framadate.org/polls/fac94491a6bcd1eba8c9"
 target="_blank" rel="noreferrer noopener">inscrivez-vous
 ici.</a></span></span></span></p>
 
 <p><span
 style="font-size:11pt;"><span><span style="font-family:Aptos,
 sans-serif;">Le covoiturage pour se rendre sur place est possible.
 Vous pouvez vous inscrire sur la page web du club, qui s'ouvrira
 lorsque vous cliquez sur je serai present. Indiquez si vous avez
 besoin d'une place ou si vous en proposez. Rendez-vous pour le
 covoiturage a la piscine du bois du chateau (horaire a
 confirmer).</span></span></span></p>
 
 <p>Bonne journee </p>
URL;VALUE=URI:https://www.lorientnatation.com/evenements/2026/05/08/meeting-des-corsaires-2337347
END:VEVENT
END:VCALENDAR
