BEGIN:VCALENDAR
VERSION:2.0
PRODID:-//hacksw/handcal//NONSGML v1.0//EN
BEGIN:VEVENT
SUMMARY:PLOT Avenirs
UID:6b035838-607e-4b52-80c2-22b85d1e8fde
DTSTART:20260426T110000Z
DTEND:20260426T160000Z
LOCATION:Lorient Natation Rue du Bois du Chateau 56100 Lorient
CATEGORIES:Sportif
STATUS:
DESCRIPTION:<h1><strong>Plot Avenir
 Departemental</strong></h1>
 
 <h3><strong>Dimanche 26 Avril 
 - Piscine du Bois du Chateau, Lorient
 .</strong></h3>
 
 <h3><strong>(Competition uniquement
 l'apres-midi) </strong></h3>
 
 <h3>Les horaires exacts ne seront
 connus que les jours qui precedent la competition. Vous les trouverez
 sur le site sur le site liveFFN. Apparaissent sur le site toutes les
 competitions qui ont lieu dans le week-end en France, selectionnez la
 bonne competition puis dans l'onglet programme vous trouverez les
 horaires.</h3>
 
 <p>Les nageurs doivent etre presents legerement avant
 l'ouverture des portes.</p>
 
 <p>Penser a donner au nageur un papier
 avec les nages sur lequel ils sont inscrites. En cas de relais pensez
 a ecrire l'ordre du relais). Vous les trouverez sur le live FFN, dans
 les jours qui precedent la competition.</p>
 
 <p>Competition reservee
 aux 11 ans et moins, et adapte pour cette categorie
 d'age.</p>
 
 <ul>
 	<li>RDV a 13h30 a la Piscine du BDC
 Lorient </li>
 	<li>Tenue du Club : bonnet + tee shirt
 violet.</li>
 	<li>Prevoir une gourde avec de l'eau et une petite
 collation.</li>
 </ul>
 
 <p><strong>REPONSE jusqu'au Vendredi 17 Avril
 !</strong></p>
 
 <p>Nous accueillons cette competition au sein du
 club, nous avons donc besoin de votre aide pour pouvoir accueillir la
 competition ! <a
 href="https://beta.framadate.org/polls/f9a5c7b6488408742685"
 target="_blank" rel="noreferrer noopener">Cliquez ici pour Participer
 </a>! </p>
 
 <p>Merci de donner un coup de main a l'installation du
 bassin au debut de la competition, ainsi que pour le rangement a la
 fin.</p>
 
 <p>Bonne journee </p>
URL;VALUE=URI:https://www.lorientnatation.com/evenements/2026/04/26/plot-avenirs-2337341
END:VEVENT
END:VCALENDAR
