BEGIN:VCALENDAR
VERSION:2.0
PRODID:-//hacksw/handcal//NONSGML v1.0//EN
BEGIN:VEVENT
SUMMARY:Challenge Avenir BDC
UID:6b7a5363-9272-4f27-92c6-61b0b7383243
DTSTART:20260426T080000Z
DTEND:20260426T100000Z
LOCATION:Localisation   
CATEGORIES:Sportif
STATUS:
DESCRIPTION:<table border="0" cellpadding="0" cellspacing="0"
 style="background-color:#f5f5f5;"
 width="100%">
 	<tbody>
 		<tr>
 			<td align="center">
 			<table
 border="0" cellpadding="0" cellspacing="0"
 style="font-family:Poppins, Arial,
 sans-serif;background-color:#fdfbff;color:#2e1e45;"
 width="650">
 				<tbody>
 					<tr>
 						<td
 style="background-color:#ede3fa;text-align:center;">
 						<h1
 style="color:#6a0dad;font-size:22px;font-weight:bold;">🏊
 CHALLENGE </h1>
 
 						<h1
 style="color:#6a0dad;font-size:22px;font-weight:bold;">Dimanche 26
 avril - Lorient BDC</h1>
 						</td>
 					</tr>
 					<tr>
 						<td
 style="font-size:15px;">
 						<p>Bonjour,<br>
 						Votre nageur ou
 nageuse est convoque(e) pour le Challenge Avenir du dimanche 26
 avril.</p>
 
 						<p><strong>📍 Lieu :</strong><br>
 						<span
 style="color:#6a0dad;font-weight:bold;">Piscine de Bois du Chateau -
 Lorient</span><br>
 						👉<a
 href="https://maps.app.goo.gl/CrdoUY6VotmUYVEV7" target="_blank"
 rel="noreferrer noopener"> Acceder a
 l'itineraire</a></p>
 
 						<p><strong>🕖 Deroulement
 :</strong><br>
 						• Rendez-vous a la piscine pour l'ouverture
 des portes a <strong>10h00</strong></p>
 
 						<p><b>Prevoir
 Collation + gourde d'eau + Tshirt et bonnet du
 club.</b><br>
 						<br>
 						⚠️ <em> Les horaires exacts seront
 envoyes dans le groupe WhatsApp quelques jours avant le debut de la
 competition. Pour le rejoindre, <a
 href="https://chat.whatsapp.com/E4oUJhFmoyF1PLLxJDgeRS"
 style="color:#6a0dad;font-weight:bold;text-decoration:underline;"
 target="_blank" rel="noreferrer noopener"> cliquez ici </a>.
 </em></p>
 
 						<p><strong>🧾 Officiels :</strong><br>
 						Pour
 le bon deroulement de la competition, nous avons besoin d'officiels.
 Merci de vous inscrire en cliquant sur ce lien : <a
 href="https://beta.framadate.org/polls/a9f1992797492c7e9529"
 target="_blank" rel="noreferrer
 noopener">https://beta.framadate.org/polls/a9f1992797492c7e9529</a></p>
 
 						<p> </p>
 
 						<table
 border="0" cellpadding="0" cellspacing="0"
 width="100%">
 							<tbody>
 								<tr>
 									<td
 style="background-color:#ffecec;">
 									<p
 style="font-size:16px;">🚨 <strong>REPONSE OBLIGATOIRE AVANT
 LE<br>
 									<span style="color:#d93025;font-size:17px;">DIMANCHE
 19 AVRIL 2026 </span></strong><br>
 									<span
 style="font-size:14px;">Sans reponse avant cette date, la
 participation du nageur ne pourra pas etre garantie.
 </span></p>
 									</td>
 								</tr>
 							</tbody>
 						</table>
 
 						<table
 border="0" cellpadding="0" cellspacing="0"
 width="100%">
 							<tbody>
 								<tr>
 									<td
 style="background-color:#ede3fa;">
 									<p>📢 <strong>Infos de
 derniere minute :</strong><br>
 									Les informations definitives
 seront transmises via le groupe WhatsApp <strong>Lorient
 Natation</strong>.</p>
 									</td>
 								</tr>
 							</tbody>
 						</table>
 
 						<table
 border="0" cellpadding="0" cellspacing="0"
 width="100%">
 							<tbody>
 								<tr>
 									<td
 style="background-color:#fffbea;">
 									<p>📲 <strong>Groupe
 WhatsApp :</strong><br>
 									👉 <a
 href="https://chat.whatsapp.com/E4oUJhFmoyF1PLLxJDgeRS"
 style="color:#6a0dad;font-weight:bold;text-decoration:underline;"
 target="_blank" rel="noreferrer noopener"> Rejoindre le groupe
 WhatsApp
 </a></p>
 									</td>
 								</tr>
 							</tbody>
 						</table>
 						</td>
 					</tr>
 					<tr>
 						<td
 style="background-color:#f4eaff;text-align:center;"><span
 style="color:#6a0dad;font-weight:bold;font-size:16px;">GO LORIENT GO
 🟣⚪ !
 </span></td>
 					</tr>
 				</tbody>
 			</table>
 			</td>
 		</tr>
 	</tbody>
 </table>
URL;VALUE=URI:https://www.lorientnatation.com/evenements/2026/04/26/challenge-avenir-bdc-2437387
END:VEVENT
END:VCALENDAR
